BEGIN:VCALENDAR
VERSION:2.0
PRODID:-//Animal Photographer - ECPv6.0.4//NONSGML v1.0//EN
CALSCALE:GREGORIAN
METHOD:PUBLISH
X-WR-CALNAME:Animal Photographer
X-ORIGINAL-URL:https://animalphotographer.co.uk
X-WR-CALDESC:Events for Animal Photographer
REFRESH-INTERVAL;VALUE=DURATION:PT1H
X-Robots-Tag:noindex
X-PUBLISHED-TTL:PT1H
BEGIN:VTIMEZONE
TZID:Europe/London
BEGIN:DAYLIGHT
TZOFFSETFROM:+0000
TZOFFSETTO:+0100
TZNAME:BST
DTSTART:20220327T010000
END:DAYLIGHT
BEGIN:STANDARD
TZOFFSETFROM:+0100
TZOFFSETTO:+0000
TZNAME:GMT
DTSTART:20221030T010000
END:STANDARD
END:VTIMEZONE
BEGIN:VEVENT
DTSTART;TZID=Europe/London:20221130T080000
DTEND;TZID=Europe/London:20221130T170000
DTSTAMP:20260422T215002
CREATED:20221127T091815Z
LAST-MODIFIED:20221127T091844Z
UID:6204-1669795200-1669827600@animalphotographer.co.uk
SUMMARY:Test
DESCRIPTION:Test
URL:https://animalphotographer.co.uk/event/test/
END:VEVENT
END:VCALENDAR